BEGIN:VCALENDAR
VERSION:2.0
PRODID:-//hacksw/handcal//NONSGML v1.0//EN
CALSCALE:GREGORIAN
BEGIN:VEVENT
UID:69e5bafdc9365
DTSTART:20240327T203000Z
DTSTAMP:20260420T053453Z
DTEND:20240328T203000Z
LOCATION:Dubai
DESCRIPTION:Nano Tenchnology Event
URL;VALUE=URI:https://materialscience.materialsconferences.com/
SUMMARY:37th International Conference on Materials Science and Engine
 eering (Material Science 2024)
END:VEVENT
END:VCALENDAR
