BEGIN:VCALENDAR
VERSION:2.0
PRODID:-//hacksw/handcal//NONSGML v1.0//EN
CALSCALE:GREGORIAN
BEGIN:VEVENT
UID:69e5bb3755f6f
DTSTART:20240403T203000Z
DTSTAMP:20260420T053551Z
DTEND:20240404T203000Z
LOCATION:Madrid
DESCRIPTION:Nano Tenchnology Event
URL;VALUE=URI:https://advancedmaterials.conferenceseries.com/
SUMMARY:30th International Conference on Advanced Materials\, Nanotec
 chnology and Engineering
END:VEVENT
END:VCALENDAR
