BEGIN:VCALENDAR
VERSION:2.0
PRODID:-//hacksw/handcal//NONSGML v1.0//EN
CALSCALE:GREGORIAN
BEGIN:VEVENT
UID:69e5a4cf05cb1
DTSTART:20240605T203000Z
DTSTAMP:20260420T040015Z
DTEND:20240606T203000Z
LOCATION:Chicago
DESCRIPTION:Nano Tenchnology Event
URL;VALUE=URI:https://nanochemistry.conferenceseries.com/
SUMMARY:4th International Conference on Nano Chemistry &amp\; Nano Me
 edicine (Nanochemistry 2024)
END:VEVENT
END:VCALENDAR
