BEGIN:VCALENDAR
VERSION:2.0
PRODID:-//hacksw/handcal//NONSGML v1.0//EN
CALSCALE:GREGORIAN
BEGIN:VEVENT
UID:69e5a4bb4d5d0
DTSTART:20250408T203000Z
DTSTAMP:20260420T035955Z
DTEND:20250409T203000Z
LOCATION:London
DESCRIPTION:Nano Tenchnology Event
URL;VALUE=URI:https://advancedmaterials.conferenceseries.com/
SUMMARY:31st International Conference on Advanced Materials\, Nanotec
 chnology and Engineering
END:VEVENT
END:VCALENDAR
