BEGIN:VCALENDAR
VERSION:2.0
PRODID:-//hacksw/handcal//NONSGML v1.0//EN
CALSCALE:GREGORIAN
BEGIN:VEVENT
UID:69e7a721a8853
DTSTART:20250706T203000Z
DTSTAMP:20260421T163441Z
DTEND:20250709T203000Z
LOCATION:Thessaloniki
DESCRIPTION:Nano Tenchnology Event
URL;VALUE=URI:https://www.nanotexnology.com/index.php/isfoe
SUMMARY:18th International Symposium on Flexible Organic Electronics 
  (ISFOE25)
END:VEVENT
END:VCALENDAR
