BEGIN:VCALENDAR
VERSION:2.0
PRODID:-//hacksw/handcal//NONSGML v1.0//EN
CALSCALE:GREGORIAN
BEGIN:VEVENT
UID:69e7a722560f4
DTSTART:20250706T203000Z
DTSTAMP:20260421T163442Z
DTEND:20250710T203000Z
LOCATION:Thessaloniki
DESCRIPTION:Nano Tenchnology Event
URL;VALUE=URI:https://www.nanotexnology.com/index.php/expo
SUMMARY:15th International Exhibition on Nanotechnologies\, Organic E
 Electronics &amp\; Nanomedicine (EXPO25)
END:VEVENT
END:VCALENDAR
