BEGIN:VCALENDAR
VERSION:2.0
PRODID:-//hacksw/handcal//NONSGML v1.0//EN
CALSCALE:GREGORIAN
BEGIN:VEVENT
UID:69e7a721338ab
DTSTART:20250704T203000Z
DTSTAMP:20260421T163441Z
DTEND:20250711T203000Z
LOCATION:Thessaloniki
DESCRIPTION:Nano Tenchnology Event
URL;VALUE=URI:https://www.nanotexnology.com/index.php/isson
SUMMARY:19th International Summer Schools on Nanosciences &amp\; Nano
 otechnologies\, Organic Electronics &amp\; Nanomedicine (ISSON25)
END:VEVENT
END:VCALENDAR
