BEGIN:VCALENDAR
VERSION:2.0
PRODID:-//hacksw/handcal//NONSGML v1.0//EN
CALSCALE:GREGORIAN
BEGIN:VEVENT
UID:69e7a75e076b3
DTSTART:20250704T203000Z
DTSTAMP:20260421T163542Z
DTEND:20250711T203000Z
LOCATION:Thessaloniki
DESCRIPTION:Nano Tenchnology Event
URL;VALUE=URI:https://www.nanotexnology.com/
SUMMARY:NANOTEXNOLOGY 2025
END:VEVENT
END:VCALENDAR
