BEGIN:VCALENDAR
VERSION:2.0
PRODID:-//hacksw/handcal//NONSGML v1.0//EN
CALSCALE:GREGORIAN
BEGIN:VEVENT
UID:69e7a721cf511
DTSTART:20250707T203000Z
DTSTAMP:20260421T163441Z
DTEND:20250709T203000Z
LOCATION:Thessaloniki
DESCRIPTION:Nano Tenchnology Event
URL;VALUE=URI:https://www.nanotexnology.com/index.php/ai-ml
SUMMARY:8th International Conference on AI\, Machine Learning\, Intel
 lligent Manufacturing &amp\; Automation (AI/ML25)
END:VEVENT
END:VCALENDAR
