BEGIN:VCALENDAR
VERSION:2.0
PRODID:-//hacksw/handcal//NONSGML v1.0//EN
CALSCALE:GREGORIAN
BEGIN:VEVENT
UID:69e5a5204041c
DTSTART:20250615T203000Z
DTSTAMP:20260420T040136Z
DTEND:20250616T203000Z
LOCATION:Amsterdam
DESCRIPTION:Nano Tenchnology Event
URL;VALUE=URI:https://nanotechnology.nanotechconferences.org/
SUMMARY:42nd Global Nanotechnology Congress
END:VEVENT
END:VCALENDAR
