BEGIN:VCALENDAR
VERSION:2.0
PRODID:-//hacksw/handcal//NONSGML v1.0//EN
CALSCALE:GREGORIAN
BEGIN:VEVENT
UID:69e5a525b9f19
DTSTART:20250520T203000Z
DTSTAMP:20260420T040141Z
DTEND:20250521T203000Z
LOCATION:Paris
DESCRIPTION:Nano Tenchnology Event
URL;VALUE=URI:https://nano.nanotechconferences.org/
SUMMARY:5th World Congress on Nanotechnology and Advanced Materials
END:VEVENT
END:VCALENDAR
