BEGIN:VCALENDAR
VERSION:2.0
PRODID:-//hacksw/handcal//NONSGML v1.0//EN
CALSCALE:GREGORIAN
BEGIN:VEVENT
UID:69e5a51fd21f4
DTSTART:20250323T203000Z
DTSTAMP:20260420T040135Z
DTEND:20250324T203000Z
LOCATION:Dubai
DESCRIPTION:Nano Tenchnology Event
URL;VALUE=URI:https://nanomaterials.insightconferences.com/
SUMMARY:38th International Conference on  Nanomaterials and Nanotechn
 nology
END:VEVENT
END:VCALENDAR
