BEGIN:VCALENDAR
VERSION:2.0
PRODID:-//hacksw/handcal//NONSGML v1.0//EN
CALSCALE:GREGORIAN
BEGIN:VEVENT
UID:69e5a52640df4
DTSTART:20250413T203000Z
DTSTAMP:20260420T040142Z
DTEND:20250414T203000Z
LOCATION:Paris
DESCRIPTION:Nano Tenchnology Event
URL;VALUE=URI:https://nanocongress.nanotechconferences.org/
SUMMARY:37th Nano Congress for Future Advancements
END:VEVENT
END:VCALENDAR
