BEGIN:VCALENDAR
VERSION:2.0
PRODID:-//hacksw/handcal//NONSGML v1.0//EN
CALSCALE:GREGORIAN
BEGIN:VEVENT
UID:69eb76b8aa2dd
DTSTART:20261208T203000Z
DTSTAMP:20260424T135712Z
DTEND:20251209T203000Z
LOCATION:Madrid
DESCRIPTION:Nano Tenchnology Event
URL;VALUE=URI:https://inscitechsummits.com/2025/nanotechnology
SUMMARY:World Meet on Nanotechnology (WMN2025)
END:VEVENT
END:VCALENDAR
