BEGIN:VCALENDAR
VERSION:2.0
PRODID:-//hacksw/handcal//NONSGML v1.0//EN
CALSCALE:GREGORIAN
BEGIN:VEVENT
UID:69e5a5205ddb7
DTSTART:20250622T203000Z
DTSTAMP:20260420T040136Z
DTEND:20250623T203000Z
LOCATION:Paris
DESCRIPTION:Nano Tenchnology Event
URL;VALUE=URI:https://www.biotechnologycongress.com/europe/
SUMMARY:28th European Biotechnology Congress
END:VEVENT
END:VCALENDAR
