BEGIN:VCALENDAR
VERSION:2.0
PRODID:-//hacksw/handcal//NONSGML v1.0//EN
CALSCALE:GREGORIAN
BEGIN:VEVENT
UID:69e5a520950e6
DTSTART:20250921T203000Z
DTSTAMP:20260420T040136Z
DTEND:20250922T203000Z
LOCATION:Dubai
DESCRIPTION:Nano Tenchnology Event
URL;VALUE=URI:https://nano.expertconferences.org/
SUMMARY:35th World Nano Conference
END:VEVENT
END:VCALENDAR
