BEGIN:VCALENDAR
VERSION:2.0
PRODID:-//hacksw/handcal//NONSGML v1.0//EN
CALSCALE:GREGORIAN
BEGIN:VEVENT
UID:69e5a4cfa4d85
DTSTART:20251020T203000Z
DTSTAMP:20260420T040015Z
DTEND:20251021T203000Z
LOCATION:London
DESCRIPTION:Nano Tenchnology Event
URL;VALUE=URI:https://nanosummit.conferenceseries.com/
SUMMARY:42nd Global Summit on Nanoscience and Technology
END:VEVENT
END:VCALENDAR
